BEGIN:VCALENDAR
VERSION:2.0
PRODID:-//West Wickham Residents Association (WWRA) - ECPv6.15.20//NONSGML v1.0//EN
CALSCALE:GREGORIAN
METHOD:PUBLISH
X-WR-CALNAME:West Wickham Residents Association (WWRA)
X-ORIGINAL-URL:https://westwickhamresidents.co.uk
X-WR-CALDESC:Events for West Wickham Residents Association (WWRA)
REFRESH-INTERVAL;VALUE=DURATION:PT1H
X-Robots-Tag:noindex
X-PUBLISHED-TTL:PT1H
BEGIN:VTIMEZONE
TZID:Europe/London
BEGIN:DAYLIGHT
TZOFFSETFROM:+0000
TZOFFSETTO:+0100
TZNAME:BST
DTSTART:20250330T010000
END:DAYLIGHT
BEGIN:STANDARD
TZOFFSETFROM:+0100
TZOFFSETTO:+0000
TZNAME:GMT
DTSTART:20251026T010000
END:STANDARD
BEGIN:DAYLIGHT
TZOFFSETFROM:+0000
TZOFFSETTO:+0100
TZNAME:BST
DTSTART:20260329T010000
END:DAYLIGHT
BEGIN:STANDARD
TZOFFSETFROM:+0100
TZOFFSETTO:+0000
TZNAME:GMT
DTSTART:20261025T010000
END:STANDARD
BEGIN:DAYLIGHT
TZOFFSETFROM:+0000
TZOFFSETTO:+0100
TZNAME:BST
DTSTART:20270328T010000
END:DAYLIGHT
BEGIN:STANDARD
TZOFFSETFROM:+0100
TZOFFSETTO:+0000
TZNAME:GMT
DTSTART:20271031T010000
END:STANDARD
BEGIN:DAYLIGHT
TZOFFSETFROM:+0000
TZOFFSETTO:+0100
TZNAME:BST
DTSTART:20280326T010000
END:DAYLIGHT
BEGIN:STANDARD
TZOFFSETFROM:+0100
TZOFFSETTO:+0000
TZNAME:GMT
DTSTART:20281029T010000
END:STANDARD
END:VTIMEZONE
BEGIN:VEVENT
DTSTART;TZID=Europe/London:20260102T000000
DTEND;TZID=Europe/London:20261231T235959
DTSTAMP:20260420T153825
CREATED:20260115T152152Z
LAST-MODIFIED:20260115T152401Z
UID:1687-1767312000-1798761599@westwickhamresidents.co.uk
SUMMARY:Safer Neighbourhood Team (SNT)
DESCRIPTION:Monthly surgery meets in library\, visit SNT site for details
URL:https://westwickhamresidents.co.uk/event/safer-neighbourhood-team-snt/
LOCATION:Kent
END:VEVENT
BEGIN:VEVENT
DTSTART;TZID=Europe/London:20260303T080000
DTEND;TZID=Europe/London:20270303T170000
DTSTAMP:20260420T153825
CREATED:20260303T175646Z
LAST-MODIFIED:20260303T175851Z
UID:1915-1772524800-1804093200@westwickhamresidents.co.uk
SUMMARY:Match Fit with Bromley Council & Bromley FC
DESCRIPTION:(See news item for more details) \nA new matchday campaign at Bromley FC is encouraging supporters aged 40–74 to take up n NHS Health Check\, a national programme designed to assess heart health and help\nprevent serious conditions.  Bromley Council and Bromley FC are teaming up to help fans\nstay match fit\, urging eligible supporters to book an NHS Health Check and explore local stop smoking and alcohol support. \n(See news item for more details)
URL:https://westwickhamresidents.co.uk/event/match-fit-with-bromley-council-bromley-fc/
LOCATION:Kent
CATEGORIES:Fitness,Health
END:VEVENT
BEGIN:VEVENT
DTSTART;TZID=Europe/London:20260504T000000
DTEND;TZID=Europe/London:20260504T235959
DTSTAMP:20260420T153825
CREATED:20260114T171654Z
LAST-MODIFIED:20260210T174402Z
UID:1669-1777852800-1777939199@westwickhamresidents.co.uk
SUMMARY:Village Day
DESCRIPTION:Village Day – Starting at 10:00 \nThe Friends of Blake Park are pleased to share that plans for Village Day 2026 are in full swing\, with a Star Wars theme: May the 4th be with you!  A day in the park with a village fete feel\, come along to enjoy street food\, displays\, local crafts\, stalls\, live music\, bar\, kids attractions and our ever-popular dog shows! \nThe Friends are a small group of volunteers\, and we would love to have more help with Village Day\, from planning and prepping to help on the day.  We’re a friendly group and it’s a fantastic event to be part of!  Please get in touch via our Friends Facebook page (@BlakeParkFriends) or via our NEW email address if you’d like to get involved: helen.korro.friendsofblakepark@gmail.com. \nAs always\, the emphasis of the day is celebrating the West Wickham community\, and we would love to have as many local craftspeople\, small businesses\, traders\, charities\, clubs and groups as possible be there with us on the day.  If you’re interested in becoming a stallholder\, please contact us via our Village Day Facebook page (@WestWickhamDay) or contact Helen by email at helen.korro.friendsofblakepark@gmail.com.  We also have lots of opportunities to advertise your business in our programme\, in our arena on the day and through our 100 Club.  Please email the Friends if you are interested.  Thank you. \nAlongside Village Day\, the Friends run activities in the park including litter picks\, clean ups\, gardening workshops and art in the park.  Please follow us on Facebook to keep updated.  We’ll also let you know about any grant applications\, project developments in the park and more!
URL:https://westwickhamresidents.co.uk/event/village-day/
LOCATION:Kent
CATEGORIES:Festival,Food & Drink
END:VEVENT
BEGIN:VEVENT
DTSTART;TZID=Europe/London:20260514T143000
DTEND;TZID=Europe/London:20260514T163000
DTSTAMP:20260420T153825
CREATED:20260415T213110Z
LAST-MODIFIED:20260415T213110Z
UID:2076-1778769000-1778776200@westwickhamresidents.co.uk
SUMMARY:Friends of West Wickham Library talk - 'Plaques in Bromley'
DESCRIPTION:Thursday 14th  May ‘Plaques in Bromley’ – a talk by Jerry Dowlen about blue plaques \nThe talk will be held in West Wickham library. \nEntry\, including refreshments\, is £2 for members (£3 for couples) & £3 for non-members. \nMeetings may be subject to alteration without notice. \nProgramme correct at time of publication.
URL:https://westwickhamresidents.co.uk/event/friends-of-west-wickham-library-talk-plaques-in-bromley/
LOCATION:West Wickham Library\, Glebe Way\, West Wickham\, Kent\, BR4 0SH\, United Kingdom
CATEGORIES:Library,Library Talk
ORGANIZER;CN="West Wickham Library":MAILTO:westwickham.library@gll.org
END:VEVENT
BEGIN:VEVENT
DTSTART;TZID=Europe/London:20260516T100000
DTEND;TZID=Europe/London:20260516T170000
DTSTAMP:20260420T153825
CREATED:20260210T184100Z
LAST-MODIFIED:20260210T190342Z
UID:1866-1778925600-1778950800@westwickhamresidents.co.uk
SUMMARY:Hayes Horticultural Society (HHS) - Plant and Craft Sale
DESCRIPTION:There is an admission fee of £1 to non-members (HHS members enter for free). \nIf you would like further information regarding the shows or about membership of the Hayes Horticultural Society\, please send an email to: Hayeshorticulturalsociety@outlook.com
URL:https://westwickhamresidents.co.uk/event/hayes-horticultural-society-hhs-plant-and-craft-sale/
LOCATION:The Hayes Village Hall\, Hayes Street\, West Wickham\, Kent\, BR2 7LH.\, United Kingdom
CATEGORIES:Craft Sale,HSS,Plant Sale
ORGANIZER;CN="Hayes Horticultural Society%C2%A0(HHS)":MAILTO:Hayeshorticulturalsociety@outlook.com
END:VEVENT
BEGIN:VEVENT
DTSTART;TZID=Europe/London:20260611T143000
DTEND;TZID=Europe/London:20260611T163000
DTSTAMP:20260420T153825
CREATED:20260415T212741Z
LAST-MODIFIED:20260415T213008Z
UID:2080-1781188200-1781195400@westwickhamresidents.co.uk
SUMMARY:Friends of West Wickham Library talk - 'Wood carving'
DESCRIPTION:Thursday 11th  June ‘Wood carving’ – a talk by Clive Nash \nThe talk will be held in West Wickham library. \nEntry\, including refreshments\, is £2 for members (£3 for couples) & £3 for non-members.\nMeetings may be subject to alteration without notice. Programme correct at time of publication.\n(expiry 12 June)
URL:https://westwickhamresidents.co.uk/event/friends-of-west-wickham-library-talk/
LOCATION:West Wickham Library\, Glebe Way\, West Wickham\, Kent\, BR4 0SH\, United Kingdom
CATEGORIES:Library,Library Talk
ORGANIZER;CN="West Wickham Library":MAILTO:westwickham.library@gll.org
END:VEVENT
BEGIN:VEVENT
DTSTART;TZID=Europe/London:20260620T193000
DTEND;TZID=Europe/London:20260620T233000
DTSTAMP:20260420T153825
CREATED:20260210T174749Z
LAST-MODIFIED:20260210T174749Z
UID:1848-1781983800-1781998200@westwickhamresidents.co.uk
SUMMARY:Hayes Symphony Orchestra Summer Concert
DESCRIPTION:The Hayes Symphony Orchestra Summer Concert will be held on  Saturday 20th June 2026 at 7.30 pm in St Francis of Assisi\, Ravenswood Avenue\, West Wickham BR4 0PW \nProgramme: \n\nMussorgsky: Night on a Bare Mountain\nGrieg: Peer Gynt Suites 1 & 2\nMendelssohn: Symphony No5  ‘Reformation’
URL:https://westwickhamresidents.co.uk/event/hayes-symphony-orchestra-summer-concert/
LOCATION:St Francis of Assisi\, Ravenswood Avenue\, West Wickham\, BR4 0PW\, United Kingdom
END:VEVENT
BEGIN:VEVENT
DTSTART;TZID=Europe/London:20260711T143000
DTEND;TZID=Europe/London:20260711T180000
DTSTAMP:20260420T153825
CREATED:20260210T184301Z
LAST-MODIFIED:20260210T190257Z
UID:1870-1783780200-1783792800@westwickhamresidents.co.uk
SUMMARY:Hayes Horticultural Society (HHS) - Summer Show
DESCRIPTION:There is an admission fee of £1 to non-members (HHS members enter for free). \nIf you would like further information regarding the shows or about membership of the Hayes Horticultural Society\, please send an email to: Hayeshorticulturalsociety@outlook.com
URL:https://westwickhamresidents.co.uk/event/hayes-horticultural-society-hhs-summer-show/
LOCATION:The Hayes Village Hall\, Hayes Street\, West Wickham\, Kent\, BR2 7LH.\, United Kingdom
CATEGORIES:HSS,Summer Show
ORGANIZER;CN="Hayes Horticultural Society%C2%A0(HHS)":MAILTO:Hayeshorticulturalsociety@outlook.com
END:VEVENT
BEGIN:VEVENT
DTSTART;TZID=Europe/London:20260906T000000
DTEND;TZID=Europe/London:20260906T220000
DTSTAMP:20260420T153825
CREATED:20260109T181826Z
LAST-MODIFIED:20260109T181901Z
UID:1644-1788652800-1788732000@westwickhamresidents.co.uk
SUMMARY:We Are Family Festival
DESCRIPTION:WE ARE FAMILY The UK’s biggest -ever all-inclusive festival for kids is HERE — and it’s going to be magical! FREE rides and attractions\, face painters\, bottomless soft drinks and hourly themed parades. Join us at We Are Family Festival on Sunday 6th September @ Croydon Recreation Ground Beckenham for: \n\nUnlimited rides\, drinks & attractions included with every kid’s ticket\nLive performances\nAmazing tributes to Taylor Swift\, Sabrina Carpenter\, Beyoncé\, Dua Lipa & more\nPLUS hourly parades with Peppa Pig\, Paw Patrol\, Disney\, Bluey & friends!\n\nSuper EARLYBIRD Tickets Only £15.00! (Age 2-15)
URL:https://westwickhamresidents.co.uk/event/we-are-family-festival/
LOCATION:Croydon Recreation Road\, 319 Croydon Rd\, Beckenham\, BR3 3FD\, United Kingdom
CATEGORIES:Experiences,Family Days,Festival
END:VEVENT
BEGIN:VEVENT
DTSTART;TZID=Europe/London:20260912T080000
DTEND;TZID=Europe/London:20260912T170000
DTSTAMP:20260420T153825
CREATED:20260210T184551Z
LAST-MODIFIED:20260210T190231Z
UID:1873-1789200000-1789232400@westwickhamresidents.co.uk
SUMMARY:Hayes Horticultural Society (HHS) - Autumn Show
DESCRIPTION:There is an admission fee of £1 to non-members (HHS members enter for free). \nIf you would like further information regarding the shows or about membership of the Hayes Horticultural Society\, please send an email to: Hayeshorticulturalsociety@outlook.com
URL:https://westwickhamresidents.co.uk/event/hayes-horticultural-society-hhs-autumn-show/
LOCATION:The Hayes Village Hall\, Hayes Street\, West Wickham\, Kent\, BR2 7LH.\, United Kingdom
CATEGORIES:Autumn Show,HSS
ORGANIZER;CN="Hayes Horticultural Society%C2%A0(HHS)":MAILTO:Hayeshorticulturalsociety@outlook.com
END:VEVENT
BEGIN:VEVENT
DTSTART;TZID=Europe/London:20261114T140000
DTEND;TZID=Europe/London:20261114T170000
DTSTAMP:20260420T153825
CREATED:20260210T184839Z
LAST-MODIFIED:20260210T190158Z
UID:1852-1794664800-1794675600@westwickhamresidents.co.uk
SUMMARY:Hayes Horticultural Society (HHS) - Winter Show
DESCRIPTION:There is an admission fee of £1 to non-members (HHS members enter for free). \nIf you would like further information regarding the shows or about membership of the Hayes Horticultural Society\, please send an email to: Hayeshorticulturalsociety@outlook.com
URL:https://westwickhamresidents.co.uk/event/hayes-horticultural-society-hhs-winter-show/
LOCATION:The Hayes Village Hall\, Hayes Street\, West Wickham\, Kent\, BR2 7LH.\, United Kingdom
CATEGORIES:HSS,Winter Show
ORGANIZER;CN="Hayes Horticultural Society%C2%A0(HHS)":MAILTO:Hayeshorticulturalsociety@outlook.com
END:VEVENT
END:VCALENDAR